BEGIN:VCALENDAR
VERSION:2.0
PRODID:-//ChamberMaster//Event Calendar 2.0//EN
METHOD:PUBLISH
X-PUBLISHED-TTL:P3D
REFRESH-INTERVAL:P3D
CALSCALE:GREGORIAN
BEGIN:VEVENT
DTSTART:20091028T223000Z
DTEND:20091029T003000Z
X-MICROSOFT-CDO-ALLDAYEVENT:FALSE
SUMMARY:Halloween Fest
DESCRIPTION:Fun and games for kids including bouncer and haunted house. Costume contest with 1st 2nd and 3rd prize winners.
X-ALT-DESC;FMTTYPE=text/html:Fun and games for kids including bouncer and haunted house. Costume contest with 1st 2nd and 3rd prize winners.
LOCATION:Harlingen Nursing and Rehab. 3810 Hale Street Harlingen\, Texas
UID:e.1828.2147
SEQUENCE:3
DTSTAMP:20260422T111604Z
URL:https://business.harlingen.com/events/details/halloween-fest-10-28-2009-2147
END:VEVENT

END:VCALENDAR
