BEGIN:VCALENDAR
VERSION:2.0
PRODID:-//ChamberMaster//Event Calendar 2.0//EN
METHOD:PUBLISH
X-PUBLISHED-TTL:P3D
REFRESH-INTERVAL:P3D
CALSCALE:GREGORIAN
BEGIN:VEVENT
DTSTART:20121031T160000Z
DTEND:20121031T160000Z
X-MICROSOFT-CDO-ALLDAYEVENT:FALSE
SUMMARY:Halloween Moviethon at Ol' D's Soda Shop
DESCRIPTION:Come join us for a Halloween Moviethon and grab a bite to eat!  Go to www.oldsss.com or www.facebook.com/oldsss for movie information or call (956) 230-1963.
X-ALT-DESC;FMTTYPE=text/html:Come join us for a Halloween Moviethon and grab a bite to eat!  Go to www.oldsss.com or www.facebook.com/oldsss for movie information or call (956) 230-1963. 
LOCATION:
UID:e.1828.4129
SEQUENCE:3
DTSTAMP:20260420T084716Z
URL:https://business.harlingen.com/events/details/halloween-moviethon-at-ol-d-s-soda-shop-10-31-2012-4129
END:VEVENT

END:VCALENDAR
