BEGIN:VCALENDAR
VERSION:2.0
PRODID:-//ChamberMaster//Event Calendar 2.0//EN
METHOD:PUBLISH
X-PUBLISHED-TTL:P3D
REFRESH-INTERVAL:P3D
CALSCALE:GREGORIAN
BEGIN:VEVENT
DTSTART;VALUE=DATE:20130216
DTEND;VALUE=DATE:20130217
TRANSP:TRANSPARENT
X-MICROSOFT-CDO-ALLDAYEVENT:TRUE
SUMMARY:Harlingen – 23th Annual Jalapeno 100 Ride
DESCRIPTION:Turn up the HEAT\, enjoy the treats and ride like the wind!!! The Jalapeño 100 is a fun bicycle event benefitting The Boys & Girls Club of Harlingen Texas\, Harlingen Youth Athletics and other select non-for-profit organizations. The 2013 event is expected to be more exciting than ever. Many fun activities are planned\, so bring the whole family. Riders from 8 through 80 years old from across the country\, Mexico and Canada makes this a yearly event. 5 Bike Routes (12\, 25\, 50\, 62.5\, 100MI  Please contact Ana Zamora @ Bicycle World RGV Systems # 956-423-3168 or # 956-541-9712. Register online at www.jalapeno100.com or visit Bicycle World in Harlingen\, McAllen or Brownsville.
X-ALT-DESC;FMTTYPE=text/html:Turn up the HEAT\, enjoy the treats and ride like the wind!!! The Jalapeño 100 is a fun bicycle event benefitting The Boys & Girls Club of Harlingen Texas\, Harlingen Youth Athletics and other select non-for-profit organizations. The 2013 event is expected to be more exciting than ever. Many fun activities are planned\, so bring the whole family. Riders from 8 through 80 years old from across the country\, Mexico and Canada makes this a yearly event. 5 Bike Routes (12\, 25\, 50\, 62.5\, 100MI  Please contact Ana Zamora @ Bicycle World RGV Systems # 956-423-3168 or # 956-541-9712. Register online at www.jalapeno100.com or visit Bicycle World in Harlingen\, McAllen or Brownsville. \n
LOCATION:
UID:e.1828.4049
SEQUENCE:3
DTSTAMP:20260420T084521Z
URL:https://business.harlingen.com/events/details/harlingen-23th-annual-jalapeno-100-ride-02-16-2013-4049
END:VEVENT

END:VCALENDAR
