BEGIN:VCALENDAR
VERSION:2.0
PRODID:-//ChamberMaster//Event Calendar 2.0//EN
METHOD:PUBLISH
X-PUBLISHED-TTL:P3D
REFRESH-INTERVAL:P3D
CALSCALE:GREGORIAN
BEGIN:VEVENT
DTSTART:20100218T233000Z
DTEND:20100219T013000Z
X-MICROSOFT-CDO-ALLDAYEVENT:FALSE
SUMMARY:Harlingen and San Benito Rotary Clubs Sixteenth Annual Shrimp Fest & Auction
DESCRIPTION:Harlingen and San Benito Rotary Clubs Sixteenth Annual Shrimp Fest & Auction is Thursday\, February 18\, 2010.  This event will take place at the South Texas Event Center (next to Whalen's in San Benito) from 5:30 PM - 7:30 PM.  Tickets are $20.00 per person.  To purchase tickets\, please call Bea Cardenas at 428-6620.
X-ALT-DESC;FMTTYPE=text/html:Harlingen and San Benito Rotary Clubs Sixteenth Annual Shrimp Fest & Auction is Thursday\, February 18\, 2010.  This event will take place at the South Texas Event Center (next to Whalen's in San Benito) from 5:30 PM - 7:30 PM.  Tickets are $20.00 per person.  To purchase tickets\, please call Bea Cardenas at 428-6620.\n
LOCATION:Next to Whalen's Furniture in San Benito
UID:e.1828.2241
SEQUENCE:3
DTSTAMP:20260422T112609Z
URL:https://business.harlingen.com/events/details/harlingen-and-san-benito-rotary-clubs-sixteenth-annual-shrimp-fest-auction-02-18-2010-2241
END:VEVENT

END:VCALENDAR
