BEGIN:VCALENDAR
VERSION:2.0
PRODID:-//ChamberMaster//Event Calendar 2.0//EN
METHOD:PUBLISH
X-PUBLISHED-TTL:P3D
REFRESH-INTERVAL:P3D
CALSCALE:GREGORIAN
BEGIN:VEVENT
DTSTART:20091119T233000Z
DTEND:20091120T013000Z
X-MICROSOFT-CDO-ALLDAYEVENT:FALSE
SUMMARY:Harlingen Area Education Foundation Wine & Cheese Reception
DESCRIPTION:CHECK BACK FOR FURTHER DETAILS.
X-ALT-DESC;FMTTYPE=text/html:CHECK BACK FOR FURTHER DETAILS.
LOCATION:
UID:e.1828.2096
SEQUENCE:3
DTSTAMP:20260422T125945Z
URL:https://business.harlingen.com/events/details/harlingen-area-education-foundation-wine-cheese-reception-11-19-2009-2096
END:VEVENT

END:VCALENDAR
