BEGIN:VCALENDAR
VERSION:2.0
PRODID:-//ChamberMaster//Event Calendar 2.0//EN
METHOD:PUBLISH
X-PUBLISHED-TTL:P3D
REFRESH-INTERVAL:P3D
CALSCALE:GREGORIAN
BEGIN:VEVENT
DTSTART:20120919T153000Z
DTEND:20120919T153000Z
X-MICROSOFT-CDO-ALLDAYEVENT:FALSE
SUMMARY:Harlingen Arroyo Colorado World Birding Center Ponds and Streams
DESCRIPTION:Come join us as we celebrate with a ribbon cutting and power point presentation!  Fresh water will be served!
X-ALT-DESC;FMTTYPE=text/html:Come join us as we celebrate with a ribbon cutting and power point presentation!  Fresh water will be served!  \n\n
LOCATION:
UID:e.1828.3982
SEQUENCE:3
DTSTAMP:20260420T101919Z
URL:https://business.harlingen.com/events/details/harlingen-arroyo-colorado-world-birding-center-ponds-and-streams-09-19-2012-3982
END:VEVENT

END:VCALENDAR
