BEGIN:VCALENDAR
VERSION:2.0
PRODID:-//ChamberMaster//Event Calendar 2.0//EN
METHOD:PUBLISH
X-PUBLISHED-TTL:P3D
REFRESH-INTERVAL:P3D
CALSCALE:GREGORIAN
BEGIN:VEVENT
DTSTART;VALUE=DATE:20110106
DTEND;VALUE=DATE:20110107
TRANSP:TRANSPARENT
X-MICROSOFT-CDO-ALLDAYEVENT:TRUE
SUMMARY:Harlingen Arts & Heritage Museum New 2011 Exhibits
DESCRIPTION:Please join us for the opening of our new 2011 exhibits\, Cliff Welty\, new paintings reception Jan. 6th\, 6-8pm.\nNew Quilts from an Old Favorite\, Sunflower\, reception Jan. 13th\, 6-8pm.  For more information please call 956-216-4903.
X-ALT-DESC;FMTTYPE=text/html:Please join us for the opening of our new 2011 exhibits\, Cliff Welty\, new paintings reception Jan. 6th\, 6-8pm.\nNew Quilts from an Old Favorite\, Sunflower\, reception Jan. 13th\, 6-8pm.  For more information please call 956-216-4903.
LOCATION:
UID:e.1828.2879
SEQUENCE:3
DTSTAMP:20260421T154816Z
URL:https://business.harlingen.com/events/details/harlingen-arts-heritage-museum-new-2011-exhibits-01-06-2011-2879
END:VEVENT

END:VCALENDAR
