BEGIN:VCALENDAR
VERSION:2.0
PRODID:-//ChamberMaster//Event Calendar 2.0//EN
METHOD:PUBLISH
X-PUBLISHED-TTL:P3D
REFRESH-INTERVAL:P3D
CALSCALE:GREGORIAN
BEGIN:VEVENT
DTSTART;VALUE=DATE:20110104
DTEND;VALUE=DATE:20110105
TRANSP:TRANSPARENT
X-MICROSOFT-CDO-ALLDAYEVENT:TRUE
SUMMARY:Harlingen Arts & Heritage Museum Sunflower Quilt Exhibit
DESCRIPTION:January 4 \nHarlingen - Arts & Heritage Museum Sunflower Quilt Exhibit\nFeaturing fabulous quilts from the 2010 Sunflower-themed New Quilts from an Old Favorite contest. Exhibit runs through March 6\, 2011.  For more information\, contact the museum at (956) 216-4901.  Museum located at 2425 Boxwood Street.
X-ALT-DESC;FMTTYPE=text/html:January 4 \nHarlingen - Arts & Heritage Museum Sunflower Quilt Exhibit\nFeaturing fabulous quilts from the 2010 Sunflower-themed New Quilts from an Old Favorite contest. Exhibit runs through March 6\, 2011.  For more information\, contact the museum at (956) 216-4901.  Museum located at 2425 Boxwood Street.\n
LOCATION:
UID:e.1828.2693
SEQUENCE:3
DTSTAMP:20260421T154913Z
URL:https://business.harlingen.com/events/details/harlingen-arts-heritage-museum-sunflower-quilt-exhibit-01-04-2011-2693
END:VEVENT

END:VCALENDAR
