BEGIN:VCALENDAR
VERSION:2.0
PRODID:-//ChamberMaster//Event Calendar 2.0//EN
METHOD:PUBLISH
X-PUBLISHED-TTL:P3D
REFRESH-INTERVAL:P3D
CALSCALE:GREGORIAN
BEGIN:VEVENT
DTSTART:20100610T233000Z
DTEND:20100611T020000Z
X-MICROSOFT-CDO-ALLDAYEVENT:FALSE
SUMMARY:HARLINGEN BOARD OF REALTORS CASINO NIGHT!!
DESCRIPTION:IT'S TIME FOR A CASINO NIGHT!  CASINO NIGHT is on Thursday\, June 10th from 6:30pm till 9:00pm at 'A Catered Affair' in downtown Harlingen.  Admission is $35.00 per person\, in advance\, payable at the Board of Realtors office before Monday\, June 7th. This includes $50 in playing chips and 5 tickets for a chance to win prizes\, as well as hors d'oeuvres and beverages. A cash bar will be available for alcoholic drinks.  After June 7th or at the door\, admission will be $50.00 per person. Let's have some fun\, food\, door prizes and benefit TREPAC at the same time!  For more information contact Benjamin Love at 956-423-8877.
X-ALT-DESC;FMTTYPE=text/html:IT'S TIME FOR A CASINO NIGHT!  CASINO NIGHT is on Thursday\, June 10th from 6:30pm till 9:00pm at 'A Catered Affair' in downtown Harlingen.  Admission is $35.00 per person\, in advance\, payable at the Board of Realtors office before Monday\, June 7th. This includes $50 in playing chips and 5 tickets for a chance to win prizes\, as well as hors d'oeuvres and beverages. A cash bar will be available for alcoholic drinks.  After June 7th or at the door\, admission will be $50.00 per person. Let's have some fun\, food\, door prizes and benefit TREPAC at the same time!  For more information contact Benjamin Love at 956-423-8877.\n
LOCATION:
UID:e.1828.2552
SEQUENCE:3
DTSTAMP:20260422T032342Z
URL:https://business.harlingen.com/events/details/harlingen-board-of-realtors-casino-night-06-10-2010-2552
END:VEVENT

END:VCALENDAR
