BEGIN:VCALENDAR
VERSION:2.0
PRODID:-//ChamberMaster//Event Calendar 2.0//EN
METHOD:PUBLISH
X-PUBLISHED-TTL:P3D
REFRESH-INTERVAL:P3D
CALSCALE:GREGORIAN
BEGIN:VEVENT
DTSTART;VALUE=DATE:20120403
DTEND;VALUE=DATE:20120404
TRANSP:TRANSPARENT
X-MICROSOFT-CDO-ALLDAYEVENT:TRUE
SUMMARY:Harlingen Board of REALTORS Pre - Licensing Classes
DESCRIPTION:Pre-Licensing Classes on April 3\, 2012. For more Information please visit www.texasrealtorsuniversity.com or call (956) 425-1034.
X-ALT-DESC;FMTTYPE=text/html:Pre-Licensing Classes on April 3\, 2012. For more Information please visit www.texasrealtorsuniversity.com or call (956) 425-1034.\n
LOCATION:
UID:e.1828.3600
SEQUENCE:3
DTSTAMP:20260420T163615Z
URL:https://business.harlingen.com/events/details/harlingen-board-of-realtors-pre-licensing-classes-04-03-2012-3600
END:VEVENT

END:VCALENDAR
