BEGIN:VCALENDAR
VERSION:2.0
PRODID:-//ChamberMaster//Event Calendar 2.0//EN
METHOD:PUBLISH
X-PUBLISHED-TTL:P3D
REFRESH-INTERVAL:P3D
CALSCALE:GREGORIAN
BEGIN:VEVENT
DTSTART:20100310T000000Z
DTEND:20100310T000000Z
X-MICROSOFT-CDO-ALLDAYEVENT:FALSE
SUMMARY:Harlingen C.I.S.D. Invites Community to Campus Bond Election Meetings Held Throughout Harlingen
DESCRIPTION:The Harlingen Consolidated Independent School District invites Harlingen residents to attend Bond Election 2010 campus community meetings scheduled between March 9th and April 29th.  The Harlingen CISD Board of Trustees voted to call for a May 8\, 2010 bond election.  The bond package includes a total of $98.6 million.  The campus meetings will provide information about the bond election and allow citizens to ask questions.   Meetings will be held at all campuses.  If a community member is unable to attend a meeting at a nearby campus\, then they are invited to attend other meetings scheduled throughout Harlingen.  Additional presentations will be conducted at civic and other group meetings during the same time period.  Information and meeting schedules can be found at the district Web site at www.harlingen.isd.tenet.edu.  For further information contact Allen Aleshire\, Director of Public Information/KHGN TV at 430-9530 or the Central Office main number 430-9500.
X-ALT-DESC;FMTTYPE=text/html:The Harlingen Consolidated Independent School District invites Harlingen residents to attend Bond Election 2010 campus community meetings scheduled between March 9th and April 29th.  The Harlingen CISD Board of Trustees voted to call for a May 8\, 2010 bond election.  The bond package includes a total of $98.6 million.  The campus meetings will provide information about the bond election and allow citizens to ask questions.   Meetings will be held at all campuses.  If a community member is unable to attend a meeting at a nearby campus\, then they are invited to attend other meetings scheduled throughout Harlingen.  Additional presentations will be conducted at civic and other group meetings during the same time period.  Information and meeting schedules can be found at the district Web site at www.harlingen.isd.tenet.edu.  For further information contact Allen Aleshire\, Director of Public Information/KHGN TV at 430-9530 or the Central Office main number 430-9500.\n\n\n\n\n
LOCATION:For meeting locations & dates please visit the school district website at www.harlingen.isd.tenet.edu
UID:e.1828.2414
SEQUENCE:3
DTSTAMP:20260422T081212Z
URL:https://business.harlingen.com/events/details/harlingen-c-i-s-d-invites-community-to-campus-bond-election-meetings-held-throughout-harlingen-03-09-2010-2414
END:VEVENT

END:VCALENDAR
