BEGIN:VCALENDAR
VERSION:2.0
PRODID:-//ChamberMaster//Event Calendar 2.0//EN
METHOD:PUBLISH
X-PUBLISHED-TTL:P3D
REFRESH-INTERVAL:P3D
CALSCALE:GREGORIAN
BEGIN:VEVENT
DTSTART:20100904T160000Z
DTEND:20100904T200000Z
X-MICROSOFT-CDO-ALLDAYEVENT:FALSE
SUMMARY:Harlingen Cardinal Class of 1980 30th High School Reunion Fundraiser
DESCRIPTION:Harlingen Cardinal Class of 1980 "30th High School Reunion" Fundraiser on Saturday\, September 4\, 2010 from  11:00 a.m. - 3:00 p.m. at TACO NACHOS located at 422 N "L" Street (Fair Park).  BBQ plate includes Chicken   Sally Villarreal Valenzuela ~ 956-793-2295\; Barb Garcia ~ 956-491-6312\; Pat Ince ~ 956-357-0841\; Lupita Torres Monsevalles ~ 956-490-9073\; Oscar Villarreal ~ 956-536-0711 or Zulema Vuittonet ~ 956-742-7085.  Can also be purchased at Taco Nachos. BBQ Plate delivery available.
X-ALT-DESC;FMTTYPE=text/html:Harlingen Cardinal Class of 1980 "30th High School Reunion" Fundraiser on Saturday\, September 4\, 2010 from  11:00 a.m. - 3:00 p.m. at TACO NACHOS located at 422 N "L" Street (Fair Park).  BBQ plate includes Chicken & Sausage\, Rice\, Beans\, Bread & Jalapenos.  Donation of $5:00 per plate. Tickets may be purchased by contacting any of the following: Rudy Juarez ~ 956- 320-0681\; Sally Villarreal Valenzuela ~ 956-793-2295\; Barb Garcia ~ 956-491-6312\; Pat Ince ~ 956-357-0841\; Lupita Torres Monsevalles ~ 956-490-9073\; Oscar Villarreal ~ 956-536-0711 or Zulema Vuittonet ~ 956-742-7085.  Can also be purchased at Taco Nachos. BBQ Plate delivery available. \n
LOCATION:
UID:e.1828.2647
SEQUENCE:3
DTSTAMP:20260421T223531Z
URL:https://business.harlingen.com/events/details/harlingen-cardinal-class-of-1980-30th-high-school-reunion-fundraiser-09-04-2010-2647
END:VEVENT

END:VCALENDAR
