BEGIN:VCALENDAR
VERSION:2.0
PRODID:-//ChamberMaster//Event Calendar 2.0//EN
METHOD:PUBLISH
X-PUBLISHED-TTL:P3D
REFRESH-INTERVAL:P3D
CALSCALE:GREGORIAN
BEGIN:VEVENT
DTSTART:20090909T223000Z
DTEND:20090909T223000Z
X-MICROSOFT-CDO-ALLDAYEVENT:FALSE
SUMMARY:Harlingen Centennial Celebration Committee Event Planning Meeting
DESCRIPTION:Join in the fun as Harlingen celebrates its 100th birthday in 2010!  The Harlingen Centennial Celebration Committee is holding a community meeting on Wednesday\, September 9th\, at 5:30 p.m. at the Harlingen Public Library to get more citizens involved in this citywide celebration.  The meeting is free and open to the public.\nService clubs\, church groups\, neighborhood associations\, school groups\, businesses\, and others are invited to attend the meeting on September 9th and learn how they can get involved with planning and organizing Centennial events.  Volunteers are need to help with a wide range of proposed activities\, including parades\, concerts\, dances\, sports events\, storytelling\, art displays\, and more.  Centennial events will begin as early as November 2009\, when the commemorative book\, At the Crossroads:  Harlingen's First 100 Years\, goes on sale and will culminate the week of  April 15\, 2010\, which is the 100th anniversary of Harlingen's incorporation.  Organizers of other activities in Harlingen in 2010 also are encouraged to use the Centennial theme.  \nFor more information on the Harlingen Centennial celebration\, contact Chairman Larry Galbreath at (956) 423-2703 or Events Coordinator\, Kathy Preddy\, at (956) 536-7218.
X-ALT-DESC;FMTTYPE=text/html:Join in the fun as Harlingen celebrates its 100th birthday in 2010!  The Harlingen Centennial Celebration Committee is holding a community meeting on Wednesday\, September 9th\, at 5:30 p.m. at the Harlingen Public Library to get more citizens involved in this citywide celebration.  The meeting is free and open to the public.\nService clubs\, church groups\, neighborhood associations\, school groups\, businesses\, and others are invited to attend the meeting on September 9th and learn how they can get involved with planning and organizing Centennial events.  Volunteers are need to help with a wide range of proposed activities\, including parades\, concerts\, dances\, sports events\, storytelling\, art displays\, and more.  Centennial events will begin as early as November 2009\, when the commemorative book\, At the Crossroads:  Harlingen's First 100 Years\, goes on sale and will culminate the week of  April 15\, 2010\, which is the 100th anniversary of Harlingen's incorporation.  Organizers of other activities in Harlingen in 2010 also are encouraged to use the Centennial theme.  \nFor more information on the Harlingen Centennial celebration\, contact Chairman Larry Galbreath at (956) 423-2703 or Events Coordinator\, Kathy Preddy\, at (956) 536-7218. \n
LOCATION:
UID:e.1828.2042
SEQUENCE:3
DTSTAMP:20260422T112102Z
URL:https://business.harlingen.com/events/details/harlingen-centennial-celebration-committee-event-planning-meeting-09-09-2009-2042
END:VEVENT

END:VCALENDAR
