BEGIN:VCALENDAR
VERSION:2.0
PRODID:-//ChamberMaster//Event Calendar 2.0//EN
METHOD:PUBLISH
X-PUBLISHED-TTL:P3D
REFRESH-INTERVAL:P3D
CALSCALE:GREGORIAN
BEGIN:VEVENT
DTSTART:20100313T160000Z
DTEND:20100313T160000Z
X-MICROSOFT-CDO-ALLDAYEVENT:FALSE
SUMMARY:HARLINGEN CENTENNIAL GOLF TOURNAMENT
DESCRIPTION:HARLINGEN CENTENNIAL GOLF TOURNAMENT.  CELEBRATING 100 YEARS!  SATURDAY\, MARCH 13\, 2010 at TONY BUTLER GOLF CLUB.  10:00AM SHOTGUN START.  FORMAT: FOUR PERSON SCRAMBLE – GROSS AND NET PRIZES\nENTRY: $65.00 PER PERSON.  SIGN UP INDIVIDUALLY OR AS A TEAM.  FIELD LIMITED TO 144 PLAYERS.  Entry fee includes: Golf\, Box Lunch\, Dinner\, Prizes\, and Tee Gift.  GOLF SHOP GIFT CERTIFICATES: GROSS & NET 1st - $400 PER TEAM\, 2nd -$300 PER TEAM and 3rd -$200 PER TEAM.  (Nike Shirt\, Towel\, Sleeve of balls - $50 value!). \nFOR MORE INFORMATION & SPONSORSHIP OPPORTUNITIES PLEASE CALL ISRAEL GONZALEZ\, PGA PROFESSIONAL AT 956-216-5970.
X-ALT-DESC;FMTTYPE=text/html:HARLINGEN CENTENNIAL GOLF TOURNAMENT.  CELEBRATING 100 YEARS!  SATURDAY\, MARCH 13\, 2010 at TONY BUTLER GOLF CLUB.  10:00AM SHOTGUN START.  FORMAT: FOUR PERSON SCRAMBLE – GROSS AND NET PRIZES\nENTRY: $65.00 PER PERSON.  SIGN UP INDIVIDUALLY OR AS A TEAM.  FIELD LIMITED TO 144 PLAYERS.  Entry fee includes: Golf\, Box Lunch\, Dinner\, Prizes\, and Tee Gift.  GOLF SHOP GIFT CERTIFICATES: GROSS & NET 1st - $400 PER TEAM\, 2nd -$300 PER TEAM and 3rd -$200 PER TEAM.  (Nike Shirt\, Towel\, Sleeve of balls - $50 value!). \nFOR MORE INFORMATION & SPONSORSHIP OPPORTUNITIES PLEASE CALL ISRAEL GONZALEZ\, PGA PROFESSIONAL AT 956-216-5970.
LOCATION:
UID:e.1828.2407
SEQUENCE:3
DTSTAMP:20260422T080806Z
URL:https://business.harlingen.com/events/details/harlingen-centennial-golf-tournament-03-13-2010-2407
END:VEVENT

END:VCALENDAR
