BEGIN:VCALENDAR
VERSION:2.0
PRODID:-//ChamberMaster//Event Calendar 2.0//EN
METHOD:PUBLISH
X-PUBLISHED-TTL:P3D
REFRESH-INTERVAL:P3D
CALSCALE:GREGORIAN
BEGIN:VEVENT
DTSTART:20110324T000000Z
DTEND:20110324T000000Z
X-MICROSOFT-CDO-ALLDAYEVENT:FALSE
SUMMARY:Harlingen Chamber of Commerce Night/ RGV Vipers vs Idaho Stampede
DESCRIPTION:RGV Vipers vs Idaho Stampede \n\nHarlingen Chamber of Commerce Night with the Vipers. \nPopcorn\, Hot Dogs and Soda for a $1.00 each \nBeer $1.50\nTickets\nBaseline $10\,00 or Sideline $12.00. \n\nFor more information contact Nicole Zagata at 956-972-1144 or e-mail nzagata@rgvipers.com
X-ALT-DESC;FMTTYPE=text/html:RGV Vipers vs Idaho Stampede \n\nHarlingen Chamber of Commerce Night with the Vipers. \nPopcorn\, Hot Dogs and Soda for a $1.00 each \nBeer $1.50\nTickets\nBaseline $10\,00 or Sideline $12.00. \n\nFor more information contact Nicole Zagata at 956-972-1144 or e-mail nzagata@rgvipers.com
LOCATION:
UID:e.1828.2912
SEQUENCE:3
DTSTAMP:20260421T140908Z
URL:https://business.harlingen.com/events/details/harlingen-chamber-of-commerce-night-rgv-vipers-vs-idaho-stampede-03-23-2011-2912
END:VEVENT

END:VCALENDAR
