BEGIN:VCALENDAR
VERSION:2.0
PRODID:-//ChamberMaster//Event Calendar 2.0//EN
METHOD:PUBLISH
X-PUBLISHED-TTL:P3D
REFRESH-INTERVAL:P3D
CALSCALE:GREGORIAN
BEGIN:VEVENT
DTSTART:20111130T000000Z
DTEND:20111130T000000Z
X-MICROSOFT-CDO-ALLDAYEVENT:FALSE
SUMMARY:Harlingen City Commission Candidates' Forum
DESCRIPTION:TSTC's Student Government Association to Sponsor Harlingen City Commission Candidates' Forum\n\nThe TSTC Student Government Association will sponsor a District One candidates' forum with Danny Castillo\, J.J. Gonzalez and Gail Moore. The forum moderator will be assisted by SGA President Ruth Treviño and the other SGA officers\, who will pose the questions to the candidates. By college policy\, the distribution or display of political literature will not be allowed. The District One special election will be held at Long Elementary School\, 2601 N. Seventh St.\, from 7 a.m. to 7 p.m. Friday\, December 16. District One in Harlingen includes Cameron County precincts 56\, 78\, 84 and 87\; early voting information is online at www.myharlingen.us . For information about the forum\, please call 956.364.4343\, 364.4370 or 364.4302.
X-ALT-DESC;FMTTYPE=text/html:TSTC's Student Government Association to Sponsor Harlingen City Commission Candidates' Forum\n\nThe TSTC Student Government Association will sponsor a District One candidates' forum with Danny Castillo\, J.J. Gonzalez and Gail Moore. The forum moderator will be assisted by SGA President Ruth Treviño and the other SGA officers\, who will pose the questions to the candidates. By college policy\, the distribution or display of political literature will not be allowed. The District One special election will be held at Long Elementary School\, 2601 N. Seventh St.\, from 7 a.m. to 7 p.m. Friday\, December 16. District One in Harlingen includes Cameron County precincts 56\, 78\, 84 and 87\; early voting information is online at www.myharlingen.us . For information about the forum\, please call 956.364.4343\, 364.4370 or 364.4302. \n
LOCATION:
UID:e.1828.3272
SEQUENCE:3
DTSTAMP:20260421T004039Z
URL:https://business.harlingen.com/events/details/harlingen-city-commission-candidates-forum-11-29-2011-3272
END:VEVENT

END:VCALENDAR
