BEGIN:VCALENDAR
VERSION:2.0
PRODID:-//ChamberMaster//Event Calendar 2.0//EN
METHOD:PUBLISH
X-PUBLISHED-TTL:P3D
REFRESH-INTERVAL:P3D
CALSCALE:GREGORIAN
BEGIN:VEVENT
DTSTART;VALUE=DATE:20091013
DTEND;VALUE=DATE:20091113
TRANSP:TRANSPARENT
X-MICROSOFT-CDO-ALLDAYEVENT:TRUE
SUMMARY:Harlingen City Flag Design Contest
DESCRIPTION:Everyone is invited to participate in the City Flag Design Contest sponsored by the Harlingen Historical Preservation Society and the Harlingen Art Forum.  The contest opens on Monday\, Oct. 12.  Deadline for all entries is Thursday\, Nov. 12\, 2009. Entry forms and rules may be picked up at D'Arte Centre\, 115 E. Jackson St.\, Harlingen\, Tuesday - Saturdays\, 10:00 am to 5:00 pm.  For more information on the city flag contest\, contact Norman Rozeff at (956) 425-2932.
X-ALT-DESC;FMTTYPE=text/html:Everyone is invited to participate in the City Flag Design Contest sponsored by the Harlingen Historical Preservation Society and the Harlingen Art Forum.  The contest opens on Monday\, Oct. 12.  Deadline for all entries is Thursday\, Nov. 12\, 2009. Entry forms and rules may be picked up at D'Arte Centre\, 115 E. Jackson St.\, Harlingen\, Tuesday - Saturdays\, 10:00 am to 5:00 pm.  For more information on the city flag contest\, contact Norman Rozeff at (956) 425-2932.\n
LOCATION:
UID:e.1828.2150
SEQUENCE:3
DTSTAMP:20260422T112723Z
URL:https://business.harlingen.com/events/details/harlingen-city-flag-design-contest-10-13-2009-2150
END:VEVENT

END:VCALENDAR
