BEGIN:VCALENDAR
VERSION:2.0
PRODID:-//ChamberMaster//Event Calendar 2.0//EN
METHOD:PUBLISH
X-PUBLISHED-TTL:P3D
REFRESH-INTERVAL:P3D
CALSCALE:GREGORIAN
BEGIN:VEVENT
DTSTART:20110308T010000Z
DTEND:20110308T010000Z
X-MICROSOFT-CDO-ALLDAYEVENT:FALSE
SUMMARY:Harlingen Community Band
DESCRIPTION:Harlingen Community Band \nPresenting Music From Stage and Screen\n$4.00 tickets available at Park Place Activity Office or at the door.
X-ALT-DESC;FMTTYPE=text/html:Harlingen Community Band \nPresenting Music From Stage and Screen\n$4.00 tickets available at Park Place Activity Office or at the door.\n
LOCATION:
UID:e.1828.2981
SEQUENCE:3
DTSTAMP:20260421T124414Z
URL:https://business.harlingen.com/events/details/harlingen-community-band-03-07-2011-2981
END:VEVENT

END:VCALENDAR
