BEGIN:VCALENDAR
VERSION:2.0
PRODID:-//ChamberMaster//Event Calendar 2.0//EN
METHOD:PUBLISH
X-PUBLISHED-TTL:P3D
REFRESH-INTERVAL:P3D
CALSCALE:GREGORIAN
BEGIN:VEVENT
DTSTART:20091213T000000Z
DTEND:20091213T000000Z
X-MICROSOFT-CDO-ALLDAYEVENT:FALSE
SUMMARY:Harlingen Community Band Christmas Concert
DESCRIPTION:Mark you calendars for the 'Tis the Season' Christmas concert presented by the Harlingen Community Band.  Tickets are available at the Harlingen Area Chamber of Commerce located at 311 East Tyler and at the door.  Donations accepted at the door.  You may visit the band website at www.harlingencommunityband.org
X-ALT-DESC;FMTTYPE=text/html:Mark you calendars for the 'Tis the Season' Christmas concert presented by the Harlingen Community Band.  Tickets are available at the Harlingen Area Chamber of Commerce located at 311 East Tyler and at the door.  Donations accepted at the door.  You may visit the band website at www.harlingencommunityband.org
LOCATION:
UID:e.1828.2240
SEQUENCE:3
DTSTAMP:20260422T130359Z
URL:https://business.harlingen.com/events/details/harlingen-community-band-christmas-concert-12-12-2009-2240
END:VEVENT

END:VCALENDAR
