BEGIN:VCALENDAR
VERSION:2.0
PRODID:-//ChamberMaster//Event Calendar 2.0//EN
METHOD:PUBLISH
X-PUBLISHED-TTL:P3D
REFRESH-INTERVAL:P3D
CALSCALE:GREGORIAN
BEGIN:VEVENT
DTSTART:20111211T000000Z
DTEND:20111211T000000Z
X-MICROSOFT-CDO-ALLDAYEVENT:FALSE
SUMMARY:Harlingen Community Band Concert
DESCRIPTION:Christmas Concert
X-ALT-DESC;FMTTYPE=text/html: \n Christmas Concert
LOCATION:1209 Fair Park BLVD. Harlingen Tx.
UID:e.1828.3337
SEQUENCE:3
DTSTAMP:20260420T230124Z
URL:https://business.harlingen.com/events/details/harlingen-community-band-concert-12-10-2011-3337
END:VEVENT

END:VCALENDAR
