BEGIN:VCALENDAR
VERSION:2.0
PRODID:-//ChamberMaster//Event Calendar 2.0//EN
METHOD:PUBLISH
X-PUBLISHED-TTL:P3D
REFRESH-INTERVAL:P3D
CALSCALE:GREGORIAN
BEGIN:VEVENT
DTSTART:20110204T010000Z
DTEND:20110204T010000Z
X-MICROSOFT-CDO-ALLDAYEVENT:FALSE
SUMMARY:Harlingen Community Band presenting music from "Stage and Screen"
DESCRIPTION:Music from "Stage and Screen" Director Erika Uribe tickets $4.00 available Jan. 27th at Park Place Activity office or at the door Feb. 3rd.
X-ALT-DESC;FMTTYPE=text/html:Music from "Stage and Screen" Director Erika Uribe tickets $4.00 available Jan. 27th at Park Place Activity office or at the door Feb. 3rd. 
LOCATION:Park Place Estates Friendship Hall
UID:e.1828.2885
SEQUENCE:3
DTSTAMP:20260421T154334Z
URL:https://business.harlingen.com/events/details/harlingen-community-band-presenting-music-from-stage-and-screen-02-03-2011-2885
END:VEVENT

END:VCALENDAR
