BEGIN:VCALENDAR
VERSION:2.0
PRODID:-//ChamberMaster//Event Calendar 2.0//EN
METHOD:PUBLISH
X-PUBLISHED-TTL:P3D
REFRESH-INTERVAL:P3D
CALSCALE:GREGORIAN
BEGIN:VEVENT
DTSTART:20091118T013000Z
DTEND:20091118T013000Z
X-MICROSOFT-CDO-ALLDAYEVENT:FALSE
SUMMARY:Harlingen Concert Association Presents Buffalo Rome
DESCRIPTION:Blending a rootsy feel reminiscent of the 1970's west coast country rock scene with today's modern country\, Buffalo Rome brings a vinyl vibe to the digital age.  With three individual\, unique styles and tastes for music\, Michael Visconti\, Kevin Douglas and Billy McCorvey bring their life experiences and life stories together to create musical magic. For ticket information\, please call Joan Cocozza at 956-428-4702 or Loraine Crouse at 956-423-7653.
X-ALT-DESC;FMTTYPE=text/html:Blending a rootsy feel reminiscent of the 1970's west coast country rock scene with today's modern country\, Buffalo Rome brings a vinyl vibe to the digital age.  With three individual\, unique styles and tastes for music\, Michael Visconti\, Kevin Douglas and Billy McCorvey bring their life experiences and life stories together to create musical magic. For ticket information\, please call Joan Cocozza at 956-428-4702 or Loraine Crouse at 956-423-7653. \n
LOCATION:
UID:e.1828.1809
SEQUENCE:3
DTSTAMP:20260422T130419Z
URL:https://business.harlingen.com/events/details/harlingen-concert-association-presents-buffalo-rome-11-17-2009-1809
END:VEVENT

END:VCALENDAR
