BEGIN:VCALENDAR
VERSION:2.0
PRODID:-//ChamberMaster//Event Calendar 2.0//EN
METHOD:PUBLISH
X-PUBLISHED-TTL:P3D
REFRESH-INTERVAL:P3D
CALSCALE:GREGORIAN
BEGIN:VEVENT
DTSTART:20100116T013000Z
DTEND:20100116T013000Z
X-MICROSOFT-CDO-ALLDAYEVENT:FALSE
SUMMARY:Harlingen Concert Association Presents Celtic Crossroads
DESCRIPTION:Celtic Crossroads is critically acclaimed as 'the most exhilarating and authentic show to come from Ireland in decades - not to be missed'. It is an explosion of youthful energy and dazzling musicianship. Celtic Crossroads abounds with fusions of traditional Irish music\, bluegrass\, gypsy and jazz whilst pulsating with the rhythms of exciting Irish dance percussion. Celtic Crossroads is doing for Irish music what Riverdance has done for Irish dance. For ticket information\, please call Joan Cocozza at 956-428-4702 or Loraine Crouse at 956-423-7653.
X-ALT-DESC;FMTTYPE=text/html:Celtic Crossroads is critically acclaimed as 'the most exhilarating and authentic show to come from Ireland in decades - not to be missed'. It is an explosion of youthful energy and dazzling musicianship. Celtic Crossroads abounds with fusions of traditional Irish music\, bluegrass\, gypsy and jazz whilst pulsating with the rhythms of exciting Irish dance percussion. Celtic Crossroads is doing for Irish music what Riverdance has done for Irish dance. For ticket information\, please call Joan Cocozza at 956-428-4702 or Loraine Crouse at 956-423-7653.\n
LOCATION:
UID:e.1828.1810
SEQUENCE:3
DTSTAMP:20260422T112223Z
URL:https://business.harlingen.com/events/details/harlingen-concert-association-presents-celtic-crossroads-01-15-2010-1810
END:VEVENT

END:VCALENDAR
