BEGIN:VCALENDAR
VERSION:2.0
PRODID:-//ChamberMaster//Event Calendar 2.0//EN
METHOD:PUBLISH
X-PUBLISHED-TTL:P3D
REFRESH-INTERVAL:P3D
CALSCALE:GREGORIAN
BEGIN:VEVENT
DTSTART:20100216T013000Z
DTEND:20100216T013000Z
X-MICROSOFT-CDO-ALLDAYEVENT:FALSE
SUMMARY:Harlingen Concert Association Presents Jazz Pianist Ronnie Kole
DESCRIPTION:New Orleans Newest Musical Legend is Jazz pianist Ronnie Kole – Ronnie is a class act and consummate performer who is popular in both his own country and overseas. The New Orleans-based musician spends much time abroad in Europe and Asia\, where his smooth sound and elegant persona lend themselves to refined venues and guest appearances with symphony orchestras. Kole is a piano man's piano man\, admired by many top stars in the business\, from Harry Connick Jr. to Allen Toussaint. For ticket information\, please call Joan Cocozza at 956-428-4702 or Loraine Crouse at 956-423-7653.
X-ALT-DESC;FMTTYPE=text/html:New Orleans Newest Musical Legend is Jazz pianist Ronnie Kole – Ronnie is a class act and consummate performer who is popular in both his own country and overseas. The New Orleans-based musician spends much time abroad in Europe and Asia\, where his smooth sound and elegant persona lend themselves to refined venues and guest appearances with symphony orchestras. Kole is a piano man's piano man\, admired by many top stars in the business\, from Harry Connick Jr. to Allen Toussaint. For ticket information\, please call Joan Cocozza at 956-428-4702 or Loraine Crouse at 956-423-7653.\n
LOCATION:
UID:e.1828.1811
SEQUENCE:3
DTSTAMP:20260422T095517Z
URL:https://business.harlingen.com/events/details/harlingen-concert-association-presents-jazz-pianist-ronnie-kole-02-15-2010-1811
END:VEVENT

END:VCALENDAR
