BEGIN:VCALENDAR
VERSION:2.0
PRODID:-//ChamberMaster//Event Calendar 2.0//EN
METHOD:PUBLISH
X-PUBLISHED-TTL:P3D
REFRESH-INTERVAL:P3D
CALSCALE:GREGORIAN
BEGIN:VEVENT
DTSTART:20101106T003000Z
DTEND:20101106T003000Z
X-MICROSOFT-CDO-ALLDAYEVENT:FALSE
SUMMARY:Harlingen Concert Association presents\, John Davidson
DESCRIPTION:John Davidson\,a certifiable television\, theatre\, film\, and Broadway star. Christian Fellowship Church\, \n901 N. Loop 499. Come join John Davidson as he presents an up close and personal vocal/banjo performance of his favorite songs and stories from his prominent career. For info and ticket prices please visit www.harlingenconcert.com
X-ALT-DESC;FMTTYPE=text/html:John Davidson\,a certifiable television\, theatre\, film\, and Broadway star. Christian Fellowship Church\, \n901 N. Loop 499. Come join John Davidson as he presents an up close and personal vocal/banjo performance of his favorite songs and stories from his prominent career. For info and ticket prices please visit www.harlingenconcert.com
LOCATION:
UID:e.1828.2825
SEQUENCE:3
DTSTAMP:20260421T203626Z
URL:https://business.harlingen.com/events/details/harlingen-concert-association-presents-john-davidson-11-05-2010-2825
END:VEVENT

END:VCALENDAR
