BEGIN:VCALENDAR
VERSION:2.0
PRODID:-//ChamberMaster//Event Calendar 2.0//EN
METHOD:PUBLISH
X-PUBLISHED-TTL:P3D
REFRESH-INTERVAL:P3D
CALSCALE:GREGORIAN
BEGIN:VEVENT
DTSTART:20100303T013000Z
DTEND:20100303T013000Z
X-MICROSOFT-CDO-ALLDAYEVENT:FALSE
SUMMARY:Harlingen Concert Association Presents Red Hot Hollywood
DESCRIPTION:From the silver screen to the stage\, Matt Davenport Productions Inc. presents a thrilling ''red carpet'' review of Hollywood's greatest music memories.  A versatile cast of eleven sing\, dance and recreate magical movie memories by Gene Kelly\, Astaire and Rogers\, Julie Andrews\, Donald O'Connor\, Judy Garland and more. Our talented Music Director/accompanist serves as host\, portraying varied Hollywood icons\, such as the Director\, Producer\, ticket-taker\, stage hand and more to tell Hollywood's musical story.\n\n\n\nFrom the golden age of Singin' in the Rain\, Mary Poppins and The Wizard of Oz\, we'll fast-forward to today's contemporary movie musicals\, including Chicago\, Grease and Hairspray. Creative stage adaptations of Academy Award-winning compositions like ''My Heart Will Go On\,'' ''Take My Breath Away\,'' and ''A Whole New World'' will fill the stage with cinematic proportions.\n\n\n\nAn array of colorful sets and costumes sparkle around innovative musical arrangements and choreography as the auditorium comes alive with the sound of movie music.\n For ticket information\, please call Joan Cocozza at 956-428-4702 or Loraine Crouse at 956-423-7653.
X-ALT-DESC;FMTTYPE=text/html:From the silver screen to the stage\, Matt Davenport Productions Inc. presents a thrilling ''red carpet'' review of Hollywood's greatest music memories.  A versatile cast of eleven sing\, dance and recreate magical movie memories by Gene Kelly\, Astaire and Rogers\, Julie Andrews\, Donald O'Connor\, Judy Garland and more. Our talented Music Director/accompanist serves as host\, portraying varied Hollywood icons\, such as the Director\, Producer\, ticket-taker\, stage hand and more to tell Hollywood's musical story.\n\n\n\nFrom the golden age of Singin' in the Rain\, Mary Poppins and The Wizard of Oz\, we'll fast-forward to today's contemporary movie musicals\, including Chicago\, Grease and Hairspray. Creative stage adaptations of Academy Award-winning compositions like ''My Heart Will Go On\,'' ''Take My Breath Away\,'' and ''A Whole New World'' will fill the stage with cinematic proportions.\n\n\n\nAn array of colorful sets and costumes sparkle around innovative musical arrangements and choreography as the auditorium comes alive with the sound of movie music.\n For ticket information\, please call Joan Cocozza at 956-428-4702 or Loraine Crouse at 956-423-7653.\n
LOCATION:
UID:e.1828.1813
SEQUENCE:3
DTSTAMP:20260422T095223Z
URL:https://business.harlingen.com/events/details/harlingen-concert-association-presents-red-hot-hollywood-03-02-2010-1813
END:VEVENT

END:VCALENDAR
