BEGIN:VCALENDAR
VERSION:2.0
PRODID:-//ChamberMaster//Event Calendar 2.0//EN
METHOD:PUBLISH
X-PUBLISHED-TTL:P3D
REFRESH-INTERVAL:P3D
CALSCALE:GREGORIAN
BEGIN:VEVENT
DTSTART:20100129T013000Z
DTEND:20100129T013000Z
X-MICROSOFT-CDO-ALLDAYEVENT:FALSE
SUMMARY:Harlingen Concert Association Presents Rudolf Budginas
DESCRIPTION:Rudolf Budginas (pronounced bud-guinness) was born into a family of musicians in Lithuania. He began his studies at the age of four and made his debut at the age of nine with the Lithuanian National Symphony. \nAfter moving to the United States in 1994\, Rudolf's passion was to expand the accessibility of classical music to wider audiences. \n\nRudolf is known for interacting with the audience by presenting information and humorous asides about the program. For ticket information\, please call Joan Cocozza at 956-428-4702 or Loraine Crouse at 956-423-7653.
X-ALT-DESC;FMTTYPE=text/html:Rudolf Budginas (pronounced bud-guinness) was born into a family of musicians in Lithuania. He began his studies at the age of four and made his debut at the age of nine with the Lithuanian National Symphony. \nAfter moving to the United States in 1994\, Rudolf's passion was to expand the accessibility of classical music to wider audiences. \n\nRudolf is known for interacting with the audience by presenting information and humorous asides about the program. For ticket information\, please call Joan Cocozza at 956-428-4702 or Loraine Crouse at 956-423-7653.\n
LOCATION:
UID:e.1828.1812
SEQUENCE:3
DTSTAMP:20260422T112824Z
URL:https://business.harlingen.com/events/details/harlingen-concert-association-presents-rudolf-budginas-01-28-2010-1812
END:VEVENT

END:VCALENDAR
