BEGIN:VCALENDAR
VERSION:2.0
PRODID:-//ChamberMaster//Event Calendar 2.0//EN
METHOD:PUBLISH
X-PUBLISHED-TTL:P3D
REFRESH-INTERVAL:P3D
CALSCALE:GREGORIAN
BEGIN:VEVENT
DTSTART:20100320T003000Z
DTEND:20100320T003000Z
X-MICROSOFT-CDO-ALLDAYEVENT:FALSE
SUMMARY:Harlingen Concert Association Presents The Canadian Tenors
DESCRIPTION:The Canadian Tenors fuse four powerful voices to deliver an exciting new blend of classical and popular repertoire to the world. Remigio Pereira\, Fraser Walters\, Jamie McKnight\, and Victor Micallef and have a wealth of international performance experience among them and bring their passion for music alive in every show. Their heritage reflects the cultural mosaic that is Canada\, encompassing Portugese\, Irish\, Scottish\, and Maltese roots\; together they speak six languages and sing in eight.\n\n\n\nTheir diversity on stage draws upon Remigio and Victor's classical training and knowledge and reflects Jamie and Fraser's wide experience in musical theatre to deliver an engaging concert experience\, one that entertains and inspires.  \n\n\n\n\n \n\n\n\nFor ticket information\, please call Joan Cocozza at 956-428-4702 or Loraine Crouse at 956-423-7653.
X-ALT-DESC;FMTTYPE=text/html:The Canadian Tenors fuse four powerful voices to deliver an exciting new blend of classical and popular repertoire to the world. Remigio Pereira\, Fraser Walters\, Jamie McKnight\, and Victor Micallef and have a wealth of international performance experience among them and bring their passion for music alive in every show. Their heritage reflects the cultural mosaic that is Canada\, encompassing Portugese\, Irish\, Scottish\, and Maltese roots\; together they speak six languages and sing in eight.\n\n\n\nTheir diversity on stage draws upon Remigio and Victor's classical training and knowledge and reflects Jamie and Fraser's wide experience in musical theatre to deliver an engaging concert experience\, one that entertains and inspires.  \n\n\n\n\n \n\n\n\nFor ticket information\, please call Joan Cocozza at 956-428-4702 or Loraine Crouse at 956-423-7653.\n
LOCATION:
UID:e.1828.1814
SEQUENCE:3
DTSTAMP:20260422T081252Z
URL:https://business.harlingen.com/events/details/harlingen-concert-association-presents-the-canadian-tenors-03-19-2010-1814
END:VEVENT

END:VCALENDAR
