BEGIN:VCALENDAR
VERSION:2.0
PRODID:-//ChamberMaster//Event Calendar 2.0//EN
METHOD:PUBLISH
X-PUBLISHED-TTL:P3D
REFRESH-INTERVAL:P3D
CALSCALE:GREGORIAN
BEGIN:VEVENT
DTSTART:20100216T160000Z
DTEND:20100216T160000Z
X-MICROSOFT-CDO-ALLDAYEVENT:FALSE
SUMMARY:Harlingen Country Club 2010 Men's $15\,000 Futures Pro Circuit Tennis Tournament
DESCRIPTION:The USTA Pro Circuit\, the world's largest professional tour for tennis development\, provides the next generation of American champions with the opportunity to play against world-class competition without having to travel abroad.  The 2010 tournament will be hosted by the Harlingen Country Club for the 8th year.  Events will kick off beginning February 16-19 with Wild Card & Qualifying Tournaments.  Singles quarter-finals & doubles semi-finals run February 23-26.  Singles semi-finals will be on February 27 and singles & doubles finals on February 28.  Other social & promotional evets will take place during the tournament.  A portion of the monies raised will go to charities located right here in the Rio Grande Valley.  Sponsorships are available.  For more information\, please contact Andy Carter at 956-412-4100 ext. 104.  Come on out & show your support these world-class tennis pros!
X-ALT-DESC;FMTTYPE=text/html:The USTA Pro Circuit\, the world's largest professional tour for tennis development\, provides the next generation of American champions with the opportunity to play against world-class competition without having to travel abroad.  The 2010 tournament will be hosted by the Harlingen Country Club for the 8th year.  Events will kick off beginning February 16-19 with Wild Card & Qualifying Tournaments.  Singles quarter-finals & doubles semi-finals run February 23-26.  Singles semi-finals will be on February 27 and singles & doubles finals on February 28.  Other social & promotional evets will take place during the tournament.  A portion of the monies raised will go to charities located right here in the Rio Grande Valley.  Sponsorships are available.  For more information\, please contact Andy Carter at 956-412-4100 ext. 104.  Come on out & show your support these world-class tennis pros! \n\n\n
LOCATION:
UID:e.1828.2279
SEQUENCE:3
DTSTAMP:20260422T112557Z
URL:https://business.harlingen.com/events/details/harlingen-country-club-2010-men-s-15-000-futures-pro-circuit-tennis-tournament-02-16-2010-2279
END:VEVENT

END:VCALENDAR
