BEGIN:VCALENDAR
VERSION:2.0
PRODID:-//ChamberMaster//Event Calendar 2.0//EN
METHOD:PUBLISH
X-PUBLISHED-TTL:P3D
REFRESH-INTERVAL:P3D
CALSCALE:GREGORIAN
BEGIN:VEVENT
DTSTART;VALUE=DATE:20120221
DTEND;VALUE=DATE:20120315
TRANSP:TRANSPARENT
X-MICROSOFT-CDO-ALLDAYEVENT:TRUE
SUMMARY:Harlingen Country Club 2012 Men's $15\,000 Futures A USTA Pro Circuit Event
DESCRIPTION:Come see the Tennis Stars of the Future. \n\nTuesday\, February 21- Friday\, February 24\nWild Card Tournament\, 10am @ HEB Tennis Center.\n\nSaturday\, February 25- Monday\, February 27 \nQualifying Tournament\, 10am @ HEB Tennis Center.\n\nMonday\, February 27\nPro/Am Tournament\, 5-7pm  @ Harlingen Country Club\nPlayer & Sponsor Party\, 7-9pm @ Mike & Elayne Mattar's.\n\nTuesday\, February 28- Thursday\, March 1\nMen's Futures-Early Rounds\, 10am @ Harlingen Country Club.\n\nFriday\, March 2\nMen's $15\,000 Futures-Doubles Semifinals & Singles Quarterfinals 10am @ Harlingen Country Club.\n\nSaturday\, March 3\nMen's $15\,000 Futures-Singles Semifinals 11am @ Harlingen Country Club.\n\nSunday\, March 4\, 12noon at Harlingen Country Club\nMen's $15\,000 Futures-Singles Final & Doubles Final Sponsor & Volunteer Party immediately following finals @ Harligen Country Club.\n\nTickets required for events on Saturday\, March 3 and Sunday\, March 4. Entry to all other events is free. For tickets call the Harlingen Country Club @ 412-4100 ext. #104. A portion of the proceeds will go to benefit the Miracle Kids of South Texas.
X-ALT-DESC;FMTTYPE=text/html:Come see the Tennis Stars of the Future. \n\nTuesday\, February 21- Friday\, February 24\nWild Card Tournament\, 10am @ HEB Tennis Center.\n\nSaturday\, February 25- Monday\, February 27 \nQualifying Tournament\, 10am @ HEB Tennis Center.\n\nMonday\, February 27\nPro/Am Tournament\, 5-7pm  @ Harlingen Country Club\nPlayer & Sponsor Party\, 7-9pm @ Mike & Elayne Mattar's.\n\nTuesday\, February 28- Thursday\, March 1\nMen's Futures-Early Rounds\, 10am @ Harlingen Country Club.\n\nFriday\, March 2\nMen's $15\,000 Futures-Doubles Semifinals & Singles Quarterfinals 10am @ Harlingen Country Club.\n\nSaturday\, March 3\nMen's $15\,000 Futures-Singles Semifinals 11am @ Harlingen Country Club.\n\nSunday\, March 4\, 12noon at Harlingen Country Club\nMen's $15\,000 Futures-Singles Final & Doubles Final Sponsor & Volunteer Party immediately following finals @ Harligen Country Club.\n\nTickets required for events on Saturday\, March 3 and Sunday\, March 4. Entry to all other events is free. For tickets call the Harlingen Country Club @ 412-4100 ext. #104. A portion of the proceeds will go to benefit the Miracle Kids of South Texas. \n
LOCATION:
UID:e.1828.3460
SEQUENCE:3
DTSTAMP:20260420T182503Z
URL:https://business.harlingen.com/events/details/harlingen-country-club-2012-men-s-15-000-futures-a-usta-pro-circuit-event-02-21-2012-3460
END:VEVENT

END:VCALENDAR
