BEGIN:VCALENDAR
VERSION:2.0
PRODID:-//ChamberMaster//Event Calendar 2.0//EN
METHOD:PUBLISH
X-PUBLISHED-TTL:P3D
REFRESH-INTERVAL:P3D
CALSCALE:GREGORIAN
BEGIN:VEVENT
DTSTART:20101026T223000Z
DTEND:20101026T223000Z
X-MICROSOFT-CDO-ALLDAYEVENT:FALSE
SUMMARY:Harlingen Country Club's New Club House Ribbon Cutting
DESCRIPTION:The new Club House at Harlingen Country Club is set to open on October 26th.  Join us as we help them celebrate with a ribbon cutting ceremony.  Hors d'oeuvres and beverages will be served.  For more information please call 956-412-4100.
X-ALT-DESC;FMTTYPE=text/html:The new Club House at Harlingen Country Club is set to open on October 26th.  Join us as we help them celebrate with a ribbon cutting ceremony.  Hors d'oeuvres and beverages will be served.  For more information please call 956-412-4100.\n
LOCATION:
UID:e.1828.2778
SEQUENCE:3
DTSTAMP:20260421T204218Z
URL:https://business.harlingen.com/events/details/harlingen-country-club-s-new-club-house-ribbon-cutting-10-26-2010-2778
END:VEVENT

END:VCALENDAR
