BEGIN:VCALENDAR
VERSION:2.0
PRODID:-//ChamberMaster//Event Calendar 2.0//EN
METHOD:PUBLISH
X-PUBLISHED-TTL:P3D
REFRESH-INTERVAL:P3D
CALSCALE:GREGORIAN
BEGIN:VEVENT
DTSTART:20091205T140000Z
DTEND:20091205T173000Z
X-MICROSOFT-CDO-ALLDAYEVENT:FALSE
SUMMARY:HARLINGEN FALL TRASH BASH EVENT
DESCRIPTION:Mark Your Calendars for the 2009 FALL TRASH BASH (A New Event!!!!!) presented by Harlingen Proud and the City of Harlingen on December 5\, 2009 from 8:00 am – 11:30 am.  NEW LOCATION!!!!!  11:45am LUNCH at the Oil Mill Pavillion.  We are in need of Volunteers to help pick up trash citywide.  When a group signs up\, they will be able to choose a designated area to clean up.  First Come\, First Serve basis only.  Please bring gloves and a lot of enthusiasm.  We will be providing lunch & refreshments and a free T-shirt for your efforts!  FOR MORE INFORMATION OR TO SIGN UP YOUR BUSINESS\, ORGANIZATION OR GROUP\, please call (956) 216-5302  or email – mkey@myharlingen.us by November 27\, 2009.  Thank you for your support and community spirit!!!
X-ALT-DESC;FMTTYPE=text/html:Mark Your Calendars for the 2009 FALL TRASH BASH (A New Event!!!!!) presented by Harlingen Proud and the City of Harlingen on December 5\, 2009 from 8:00 am – 11:30 am.  NEW LOCATION!!!!!  11:45am LUNCH at the Oil Mill Pavillion.  We are in need of Volunteers to help pick up trash citywide.  When a group signs up\, they will be able to choose a designated area to clean up.  First Come\, First Serve basis only.  Please bring gloves and a lot of enthusiasm.  We will be providing lunch & refreshments and a free T-shirt for your efforts!  FOR MORE INFORMATION OR TO SIGN UP YOUR BUSINESS\, ORGANIZATION OR GROUP\, please call (956) 216-5302  or email – mkey@myharlingen.us by November 27\, 2009.  Thank you for your support and community spirit!!!\n
LOCATION:
UID:e.1828.2171
SEQUENCE:3
DTSTAMP:20260422T124827Z
URL:https://business.harlingen.com/events/details/harlingen-fall-trash-bash-event-12-05-2009-2171
END:VEVENT

END:VCALENDAR
