BEGIN:VCALENDAR
VERSION:2.0
PRODID:-//ChamberMaster//Event Calendar 2.0//EN
METHOD:PUBLISH
X-PUBLISHED-TTL:P3D
REFRESH-INTERVAL:P3D
CALSCALE:GREGORIAN
BEGIN:VEVENT
DTSTART:20120223T233000Z
DTEND:20120224T010000Z
X-MICROSOFT-CDO-ALLDAYEVENT:FALSE
SUMMARY:Harlingen Family Dentistry Pediatric Clinic Grand Opening & Ribbon Cutting New Children's Facility
DESCRIPTION:Dr. Rodolfo Vargas\, Dr. Walter Lopez\, Dr. Oshmi Dutta and Willy the Walrus cordially invite you to attend the grand opening of Harlingen Family Dentistry Children's Dental Clinic.Refreshments will be served.
X-ALT-DESC;FMTTYPE=text/html:Dr. Rodolfo Vargas\, Dr. Walter Lopez\, Dr. Oshmi Dutta and Willy the Walrus cordially invite you to attend the grand opening of Harlingen Family Dentistry Children's Dental Clinic.Refreshments will be served.   \n
LOCATION:
UID:e.1828.3395
SEQUENCE:3
DTSTAMP:20260420T213804Z
URL:https://business.harlingen.com/events/details/harlingen-family-dentistry-pediatric-clinic-grand-opening-ribbon-cutting-new-children-s-facility-02-23-2012-3395
END:VEVENT

END:VCALENDAR
