BEGIN:VCALENDAR
VERSION:2.0
PRODID:-//ChamberMaster//Event Calendar 2.0//EN
METHOD:PUBLISH
X-PUBLISHED-TTL:P3D
REFRESH-INTERVAL:P3D
CALSCALE:GREGORIAN
BEGIN:VEVENT
DTSTART;VALUE=DATE:20130202
DTEND;VALUE=DATE:20130203
TRANSP:TRANSPARENT
X-MICROSOFT-CDO-ALLDAYEVENT:TRUE
SUMMARY:Harlingen - Farmers Market
DESCRIPTION:Harlingen - Farmers Market – Every Saturday of the Month. Visit the Harlingen Farmers Market\, where ample fresh produce is available direct from the growers. Location on\, "A" Street Downtown Harlingen\, between Jackson and Monroe. The Farmers Market runs from 2:30pm to 4:30 p.m. Visit the website at www.harlingenfarmersmarket.com for new location.
X-ALT-DESC;FMTTYPE=text/html:Harlingen - Farmers Market – Every Saturday of the Month. Visit the Harlingen Farmers Market\, where ample fresh produce is available direct from the growers. Location on\, "A" Street Downtown Harlingen\, between Jackson and Monroe. The Farmers Market runs from 2:30pm to 4:30 p.m. Visit the website at www.harlingenfarmersmarket.com for new location.\n
LOCATION:
UID:e.1828.4048
SEQUENCE:3
DTSTAMP:20260420T100913Z
URL:https://business.harlingen.com/events/details/harlingen-farmers-market-02-02-2013-4048
END:VEVENT

END:VCALENDAR
