BEGIN:VCALENDAR
VERSION:2.0
PRODID:-//ChamberMaster//Event Calendar 2.0//EN
METHOD:PUBLISH
X-PUBLISHED-TTL:P3D
REFRESH-INTERVAL:P3D
CALSCALE:GREGORIAN
BEGIN:VEVENT
DTSTART:20120609T200000Z
DTEND:20120609T210000Z
X-MICROSOFT-CDO-ALLDAYEVENT:FALSE
SUMMARY:Harlingen Farmers Market
DESCRIPTION:Enjoy shopping for fresh\, seasonal\, and locally-grown fruits & vegetables\, plus free-range eggs\, chicken and more.  For more info\, visit www.harlingenfarmersmarket.com.
X-ALT-DESC;FMTTYPE=text/html:Enjoy shopping for fresh\, seasonal\, and locally-grown fruits & vegetables\, plus free-range eggs\, chicken and more.  For more info\, visit www.harlingenfarmersmarket.com.\n
LOCATION:
UID:e.1828.3746
SEQUENCE:3
DTSTAMP:20260420T132525Z
URL:https://business.harlingen.com/events/details/harlingen-farmers-market-06-09-2012-3746
END:VEVENT

END:VCALENDAR
