BEGIN:VCALENDAR
VERSION:2.0
PRODID:-//ChamberMaster//Event Calendar 2.0//EN
METHOD:PUBLISH
X-PUBLISHED-TTL:P3D
REFRESH-INTERVAL:P3D
CALSCALE:GREGORIAN
BEGIN:VEVENT
DTSTART:20100703T200000Z
DTEND:20100703T213000Z
X-MICROSOFT-CDO-ALLDAYEVENT:FALSE
SUMMARY:Harlingen Farmers Market
DESCRIPTION:Come on out to the Harlingen Farmers Market\, where ample fresh produce is available direct from local growers.  The Farmers Market runs from 3 to 4:30 p.m. at El Mercado Mall located behind McDonalds at 77 Sunshine Strip & Morgan Blvd.  For more information\, visit their website at www.harlingenfarmersmarket.com.
X-ALT-DESC;FMTTYPE=text/html:Come on out to the Harlingen Farmers Market\, where ample fresh produce is available direct from local growers.  The Farmers Market runs from 3 to 4:30 p.m. at El Mercado Mall located behind McDonalds at 77 Sunshine Strip & Morgan Blvd.  For more information\, visit their website at www.harlingenfarmersmarket.com.
LOCATION:
UID:e.1828.2569
SEQUENCE:3
DTSTAMP:20260422T015614Z
URL:https://business.harlingen.com/events/details/harlingen-farmers-market-07-03-2010-2569
END:VEVENT

END:VCALENDAR
