BEGIN:VCALENDAR
VERSION:2.0
PRODID:-//ChamberMaster//Event Calendar 2.0//EN
METHOD:PUBLISH
X-PUBLISHED-TTL:P3D
REFRESH-INTERVAL:P3D
CALSCALE:GREGORIAN
BEGIN:VEVENT
DTSTART:20101023T200000Z
DTEND:20101023T220000Z
X-MICROSOFT-CDO-ALLDAYEVENT:FALSE
SUMMARY:Harlingen Farmers Market
DESCRIPTION:The Farmers Market Fall Season Saturdays 3pm-5pm and continues every Saturday thereafter at their new location in downtown Harlingen on "A" Street\, between Jackson and Monroe.  Come on out to the Harlingen Farmers Market\, where ample amounts of fresh produce are available direct from local growers.  For more information visit the website at www.harlingenfarmersmarket.com where you'll find helpful tips & info on everything from farmer's markets to recipes\, planting zones & much\, much more!
X-ALT-DESC;FMTTYPE=text/html:The Farmers Market Fall Season Saturdays 3pm-5pm and continues every Saturday thereafter at their new location in downtown Harlingen on "A" Street\, between Jackson and Monroe.  Come on out to the Harlingen Farmers Market\, where ample amounts of fresh produce are available direct from local growers.  For more information visit the website at www.harlingenfarmersmarket.com where you'll find helpful tips & info on everything from farmer's markets to recipes\, planting zones & much\, much more!
LOCATION:
UID:e.1828.2783
SEQUENCE:3
DTSTAMP:20260421T203839Z
URL:https://business.harlingen.com/events/details/harlingen-farmers-market-10-23-2010-2783
END:VEVENT

END:VCALENDAR
