BEGIN:VCALENDAR
VERSION:2.0
PRODID:-//ChamberMaster//Event Calendar 2.0//EN
METHOD:PUBLISH
X-PUBLISHED-TTL:P3D
REFRESH-INTERVAL:P3D
CALSCALE:GREGORIAN
BEGIN:VEVENT
DTSTART:20120205T000000Z
DTEND:20120205T000000Z
X-MICROSOFT-CDO-ALLDAYEVENT:FALSE
SUMMARY:Harlingen Gospel Singing Concert
DESCRIPTION:Free Concert performing ALL 4 HIM from Oklahoma City and other performers. Donations accepted for Sunny Glen Children's Home\, San Benito\, TX
X-ALT-DESC;FMTTYPE=text/html:Free Concert performing ALL 4 HIM from Oklahoma City and other performers. Donations accepted for Sunny Glen Children's Home\, San Benito\, TX 
LOCATION:Near the Airport
UID:e.1828.3399
SEQUENCE:3
DTSTAMP:20260420T200202Z
URL:https://business.harlingen.com/events/details/harlingen-gospel-singing-concert-02-04-2012-3399
END:VEVENT

END:VCALENDAR
