BEGIN:VCALENDAR
VERSION:2.0
PRODID:-//ChamberMaster//Event Calendar 2.0//EN
METHOD:PUBLISH
X-PUBLISHED-TTL:P3D
REFRESH-INTERVAL:P3D
CALSCALE:GREGORIAN
BEGIN:VEVENT
DTSTART:20100207T000000Z
DTEND:20100207T000000Z
X-MICROSOFT-CDO-ALLDAYEVENT:FALSE
SUMMARY:Harlingen Gospel Singing Concert Benefitting Sunny Glen Children's Home
DESCRIPTION:You are invited to attend the Harlingen Gospel Singing Concert on Saturday\, February 6\, 2010 at 6 pm in the evening.  FREE ADMISSION!  Come hear the vocal talents of Voices in Praise\, an acappella singing group from Houston.  All donations will go to Sunny Glen Children's Home.  For more information\, please call 832-233-2023.
X-ALT-DESC;FMTTYPE=text/html:You are invited to attend the Harlingen Gospel Singing Concert on Saturday\, February 6\, 2010 at 6 pm in the evening.  FREE ADMISSION!  Come hear the vocal talents of Voices in Praise\, an acappella singing group from Houston.  All donations will go to Sunny Glen Children's Home.  For more information\, please call 832-233-2023.
LOCATION:
UID:e.1828.2315
SEQUENCE:3
DTSTAMP:20260422T112609Z
URL:https://business.harlingen.com/events/details/harlingen-gospel-singing-concert-benefitting-sunny-glen-children-s-home-02-06-2010-2315
END:VEVENT

END:VCALENDAR
