BEGIN:VCALENDAR
VERSION:2.0
PRODID:-//ChamberMaster//Event Calendar 2.0//EN
METHOD:PUBLISH
X-PUBLISHED-TTL:P3D
REFRESH-INTERVAL:P3D
CALSCALE:GREGORIAN
BEGIN:VEVENT
DTSTART:20111001T123000Z
DTEND:20111001T190000Z
X-MICROSOFT-CDO-ALLDAYEVENT:FALSE
SUMMARY:Harlingen Heart Walk
DESCRIPTION:The Harlingen Heart Walk will take place on Saturday October 1\, 2011. The 5k walk/run will be held at the MMA (Marine Military Academy) in Harlingen. The event will go from 7:30am - 2:00pm (including kick off activities\, registration\, etc). For any information or to register\, you may go to  http://www.HarlingenHeartWalk.org or call 888-433-7220 x2432.
X-ALT-DESC;FMTTYPE=text/html:The Harlingen Heart Walk will take place on Saturday October 1\, 2011. The 5k walk/run will be held at the MMA (Marine Military Academy) in Harlingen. The event will go from 7:30am - 2:00pm (including kick off activities\, registration\, etc). For any information or to register\, you may go to  http://www.HarlingenHeartWalk.org or call 888-433-7220 x2432. \n
LOCATION:
UID:e.1828.3176
SEQUENCE:3
DTSTAMP:20260421T021113Z
URL:https://business.harlingen.com/events/details/harlingen-heart-walk-10-01-2011-3176
END:VEVENT

END:VCALENDAR
