BEGIN:VCALENDAR
VERSION:2.0
PRODID:-//ChamberMaster//Event Calendar 2.0//EN
METHOD:PUBLISH
X-PUBLISHED-TTL:P3D
REFRESH-INTERVAL:P3D
CALSCALE:GREGORIAN
BEGIN:VEVENT
DTSTART;VALUE=DATE:20100521
DTEND;VALUE=DATE:20100523
TRANSP:TRANSPARENT
X-MICROSOFT-CDO-ALLDAYEVENT:TRUE
SUMMARY:Harlingen Heritage Festival
DESCRIPTION:Friday\, May 21 from 6 to 10 pm\n\n    Saturday\, May 22 from 10 am to 2 pm\n\n    FREE & OPEN TO THE PUBLIC
X-ALT-DESC;FMTTYPE=text/html:<html>\n<head>\n</head>\n<body>\n    Friday\, May 21 from 6 to 10 pm<br />\n    Saturday\, May 22 from 10 am to 2 pm<br />\n    FREE &amp\; OPEN TO THE PUBLIC\n</body>\n</html>\n
LOCATION:
UID:e.1828.2445
SEQUENCE:3
DTSTAMP:20260422T061853Z
URL:https://business.harlingen.com/events/details/harlingen-heritage-festival-05-21-2010-2445
END:VEVENT

END:VCALENDAR
