BEGIN:VCALENDAR
VERSION:2.0
PRODID:-//ChamberMaster//Event Calendar 2.0//EN
METHOD:PUBLISH
X-PUBLISHED-TTL:P3D
REFRESH-INTERVAL:P3D
CALSCALE:GREGORIAN
BEGIN:VEVENT
DTSTART;VALUE=DATE:20101001
DTEND;VALUE=DATE:20101003
TRANSP:TRANSPARENT
X-MICROSOFT-CDO-ALLDAYEVENT:TRUE
SUMMARY:Harlingen High School Class of 1980 30th Homecoming Reunion
DESCRIPTION:FRIDAY\, OCT 1st  FRIDAY NIGHT FOOTBALL GAME MIXER at 6:30 pm at Taco Nacho's.  Serving finger foods and there will be a D.J.  (if not attending football game\, go straight to Taco Nacho's).  SATURDAY\, OCT. 2nd DINNER & DANCE at the HARLINGEN COMMUNITY CENTER.  6:00 pm – 7:00 pm meet & greet.  Dinner 7:00 – 8:30pm.  Music by DJ KJ Roland from 8 – 12 midnight.  Registration fee of $75/couple includes both nights plus 2 drinks for Friday event.  $40/single includes both nights plus 2 drinks for event.  More registration information & registration form available at http://tinyurl.com/HHS-Class-Reunion-Registration.  Or contact Oscar at 956-536-0711.
X-ALT-DESC;FMTTYPE=text/html:FRIDAY\, OCT 1st  FRIDAY NIGHT FOOTBALL GAME MIXER at 6:30 pm at Taco Nacho's.  Serving finger foods and there will be a D.J.  (if not attending football game\, go straight to Taco Nacho's).  SATURDAY\, OCT. 2nd DINNER & DANCE at the HARLINGEN COMMUNITY CENTER.  6:00 pm – 7:00 pm meet & greet.  Dinner 7:00 – 8:30pm.  Music by DJ KJ Roland from 8 – 12 midnight.  Registration fee of $75/couple includes both nights plus 2 drinks for Friday event.  $40/single includes both nights plus 2 drinks for event.  More registration information & registration form available at http://tinyurl.com/HHS-Class-Reunion-Registration.  Or contact Oscar at 956-536-0711.\n\n
LOCATION:Locations: Friday Night Mixer at Taco Nachos at 422 North L. St Saturday Night Dinner & Dance at Harlingen Community Center at 201 E. Madison
UID:e.1828.2651
SEQUENCE:3
DTSTAMP:20260421T223622Z
URL:https://business.harlingen.com/events/details/harlingen-high-school-class-of-1980-30th-homecoming-reunion-10-01-2010-2651
END:VEVENT

END:VCALENDAR
