BEGIN:VCALENDAR
VERSION:2.0
PRODID:-//ChamberMaster//Event Calendar 2.0//EN
METHOD:PUBLISH
X-PUBLISHED-TTL:P3D
REFRESH-INTERVAL:P3D
CALSCALE:GREGORIAN
BEGIN:VEVENT
DTSTART:20120216T150000Z
DTEND:20120216T150000Z
X-MICROSOFT-CDO-ALLDAYEVENT:FALSE
SUMMARY:Harlingen High School Varsity Football Team featured on the cover of the 2012 Rio Grande Valley Yellow Pages Directory
DESCRIPTION:Captains Featured on Companion Directory\n \nWHAT: \nUnveiling of the 2012 Rio Grande YP Real Yellow Pages directory cover featuring the Harlingen Cardinals Varsity football team\, which had its most successful year in school history\, on the cover of the main directory\, and the team captains on the cover of the companion directory. \n \nWHO:\n•	Roland Rodriguez\, AT&T Advertising Solutions area marketing manager\n•	State Representative Eddie Lucio III\n•	Susan Hoehne\, Executive Director of Valley Proud Environmental Council\n•	Imelda Munivez\, Principal of Harlingen High School\n•	Manual Gomez\, Harlingen athletic coordinator and head football coach  \nBEST VISUALS: \n•	Members of the team\n•	Unveiling of oversized YP Real Yellow Pages cover for the first time\n\nBACKGROUND:     \nThe Harlingen Cardinals varsity football team\, which had its most successful year in school history\, is featured on the cover of the new Rio Grande YP Real Yellow Pages directory. The cover photo shows the Class 5A quarter finalists charging onto the field before a recent game. \nThe Cardinals nearly ran the table being undefeated until suffering their lone loss in the state quarterfinals. \nMore than 456\,000 copies of the directory have been produced for distribution in the area this year. Directory delivery is underway and continues through March 16. \nThe companion directory\, which features the Harlingen Cardinals team captains\, is a smaller\, more portable version of the traditional print directory designed for on-the-go consumers. Nearly 213\,000 of these have been produced for distribution. \nBoth of these directories will also be available to new residents and businesses throughout the year.
X-ALT-DESC;FMTTYPE=text/html:Captains Featured on Companion Directory\n \nWHAT: \nUnveiling of the 2012 Rio Grande YP Real Yellow Pages directory cover featuring the Harlingen Cardinals Varsity football team\, which had its most successful year in school history\, on the cover of the main directory\, and the team captains on the cover of the companion directory. \n \nWHO:\n•	Roland Rodriguez\, AT&T Advertising Solutions area marketing manager\n•	State Representative Eddie Lucio III\n•	Susan Hoehne\, Executive Director of Valley Proud Environmental Council\n•	Imelda Munivez\, Principal of Harlingen High School\n•	Manual Gomez\, Harlingen athletic coordinator and head football coach  \nBEST VISUALS: \n•	Members of the team\n•	Unveiling of oversized YP Real Yellow Pages cover for the first time\n\nBACKGROUND:     \nThe Harlingen Cardinals varsity football team\, which had its most successful year in school history\, is featured on the cover of the new Rio Grande YP Real Yellow Pages directory. The cover photo shows the Class 5A quarter finalists charging onto the field before a recent game. \nThe Cardinals nearly ran the table being undefeated until suffering their lone loss in the state quarterfinals. \nMore than 456\,000 copies of the directory have been produced for distribution in the area this year. Directory delivery is underway and continues through March 16. \nThe companion directory\, which features the Harlingen Cardinals team captains\, is a smaller\, more portable version of the traditional print directory designed for on-the-go consumers. Nearly 213\,000 of these have been produced for distribution. \nBoth of these directories will also be available to new residents and businesses throughout the year.  \n \n
LOCATION:
UID:e.1828.3430
SEQUENCE:3
DTSTAMP:20260420T201054Z
URL:https://business.harlingen.com/events/details/harlingen-high-school-varsity-football-team-featured-on-the-cover-of-the-2012-rio-grande-valley-yellow-pages-directory-02-16-2012-3430
END:VEVENT

END:VCALENDAR
