BEGIN:VCALENDAR
VERSION:2.0
PRODID:-//ChamberMaster//Event Calendar 2.0//EN
METHOD:PUBLISH
X-PUBLISHED-TTL:P3D
REFRESH-INTERVAL:P3D
CALSCALE:GREGORIAN
BEGIN:VEVENT
DTSTART:20100312T200000Z
DTEND:20100312T220000Z
X-MICROSOFT-CDO-ALLDAYEVENT:FALSE
SUMMARY:Harlingen Historical Preservation Society Public Meeting
DESCRIPTION:General Public Meeting and "The Snake King of Brownsville\," a presentation by Javier Garcia.
X-ALT-DESC;FMTTYPE=text/html:General Public Meeting and "The Snake King of Brownsville\," a presentation by Javier Garcia. 
LOCATION:Harlingen Public Library Auditorium
UID:e.1828.2437
SEQUENCE:3
DTSTAMP:20260422T095222Z
URL:https://business.harlingen.com/events/details/harlingen-historical-preservation-society-public-meeting-03-12-2010-2437
END:VEVENT

END:VCALENDAR
