BEGIN:VCALENDAR
VERSION:2.0
PRODID:-//ChamberMaster//Event Calendar 2.0//EN
METHOD:PUBLISH
X-PUBLISHED-TTL:P3D
REFRESH-INTERVAL:P3D
CALSCALE:GREGORIAN
BEGIN:VEVENT
DTSTART:20091107T140000Z
DTEND:20091107T180000Z
X-MICROSOFT-CDO-ALLDAYEVENT:FALSE
SUMMARY:Harlingen Landscaping Clean Up Event
DESCRIPTION:SAVE THE DATE!  Landscape Revitalization Project presented by Harlingen Proud and the City of Harlingen November 7\, 2009 from 8:00 am – 12:00 pm.\n\nWe are in need of Volunteers to help clean up landscaping beds on public land around the city.  When a group signs up\, they will be able to choose a designated area - First Come\, First Serve basis only\n\nSome locations are high traffic areas including Loop 499 and Dixieland Entrance Area.\n\nPlease bring gloves\, gardening equipment (weed-eaters\, clippers\, rakes\, and shovels\, and a lot of enthusiasm.  Limited Equipment will be available for check out at the City Hall Parking lot from 7:30 am – 8:30 am. \n\nRefreshments provided at equipment checkout site.\n\nFOR MORE INFORMATION OR TO SIGN UP YOUR BUSINESS\, ORGANIZATION OR GROUP\nPlease call (956) 216-5302  or email hgnproud@aol.com or mwkey@rgv.rr.com by November 5\, 2009.\n\nThank you for your support and community spirit!!!
X-ALT-DESC;FMTTYPE=text/html:SAVE THE DATE!  Landscape Revitalization Project presented by Harlingen Proud and the City of Harlingen November 7\, 2009 from 8:00 am – 12:00 pm.\n\nWe are in need of Volunteers to help clean up landscaping beds on public land around the city.  When a group signs up\, they will be able to choose a designated area - First Come\, First Serve basis only\n\nSome locations are high traffic areas including Loop 499 and Dixieland Entrance Area.\n\nPlease bring gloves\, gardening equipment (weed-eaters\, clippers\, rakes\, and shovels\, and a lot of enthusiasm.  Limited Equipment will be available for check out at the City Hall Parking lot from 7:30 am – 8:30 am. \n\nRefreshments provided at equipment checkout site.\n\nFOR MORE INFORMATION OR TO SIGN UP YOUR BUSINESS\, ORGANIZATION OR GROUP\nPlease call (956) 216-5302  or email hgnproud@aol.com or mwkey@rgv.rr.com by November 5\, 2009.\n\nThank you for your support and community spirit!!!\n\n
LOCATION:
UID:e.1828.2170
SEQUENCE:3
DTSTAMP:20260422T125945Z
URL:https://business.harlingen.com/events/details/harlingen-landscaping-clean-up-event-11-07-2009-2170
END:VEVENT

END:VCALENDAR
