BEGIN:VCALENDAR
VERSION:2.0
PRODID:-//ChamberMaster//Event Calendar 2.0//EN
METHOD:PUBLISH
X-PUBLISHED-TTL:P3D
REFRESH-INTERVAL:P3D
CALSCALE:GREGORIAN
BEGIN:VEVENT
DTSTART:20120322T233000Z
DTEND:20120322T233000Z
X-MICROSOFT-CDO-ALLDAYEVENT:FALSE
SUMMARY:Harlingen Leadership Academy Open House & Tour
DESCRIPTION:HLA celebrates a successful inaugural year as a tuition-free charter school.  Open enrollment in March for next school year. HLA serves PreK through 4th and next year will add 5th grade and a second first grade class.  For more information contact their Principal\, Dr. Cindy Sadler\, at 364-2456 or 428-4848.
X-ALT-DESC;FMTTYPE=text/html:HLA celebrates a successful inaugural year as a tuition-free charter school.  Open enrollment in March for next school year. HLA serves PreK through 4th and next year will add 5th grade and a second first grade class.  For more information contact their Principal\, Dr. Cindy Sadler\, at 364-2456 or 428-4848.\n
LOCATION:Lewis Lane Exit\, The Educational Wing
UID:e.1828.3591
SEQUENCE:3
DTSTAMP:20260420T195849Z
URL:https://business.harlingen.com/events/details/harlingen-leadership-academy-open-house-tour-03-22-2012-3591
END:VEVENT

END:VCALENDAR
