BEGIN:VCALENDAR
VERSION:2.0
PRODID:-//ChamberMaster//Event Calendar 2.0//EN
METHOD:PUBLISH
X-PUBLISHED-TTL:P3D
REFRESH-INTERVAL:P3D
CALSCALE:GREGORIAN
BEGIN:VEVENT
DTSTART:20120308T130000Z
DTEND:20120308T143000Z
X-MICROSOFT-CDO-ALLDAYEVENT:FALSE
SUMMARY:Harlingen Mayor's Prayer Breakfast
DESCRIPTION:Please join Mayor Chris Boswell for the Inaugural Harlingen Mayor's Prayer Breakfast. Hosted by Mayor Chris Boswell\, Guest Speaker Bishop David Reed. This is a free event and open to the public. Ticket must be presented at door. Free tickets may be picked up at the Harlingen Chamber of Commerce\, 311 East Tyler\, beginning February 16\, 2012 between 9am-5pm Monday-Friday. Limit 4 tickets per person. First 500 will receive tickets. Benefiting the Harlingen Outreach Center.
X-ALT-DESC;FMTTYPE=text/html:Please join Mayor Chris Boswell for the Inaugural Harlingen Mayor's Prayer Breakfast. Hosted by Mayor Chris Boswell\, Guest Speaker Bishop David Reed. This is a free event and open to the public. Ticket must be presented at door. Free tickets may be picked up at the Harlingen Chamber of Commerce\, 311 East Tyler\, beginning February 16\, 2012 between 9am-5pm Monday-Friday. Limit 4 tickets per person. First 500 will receive tickets. Benefiting the Harlingen Outreach Center. 
LOCATION:
UID:e.1828.3432
SEQUENCE:3
DTSTAMP:20260420T181751Z
URL:https://business.harlingen.com/events/details/harlingen-mayor-s-prayer-breakfast-03-08-2012-3432
END:VEVENT

END:VCALENDAR
