BEGIN:VCALENDAR
VERSION:2.0
PRODID:-//ChamberMaster//Event Calendar 2.0//EN
METHOD:PUBLISH
X-PUBLISHED-TTL:P3D
REFRESH-INTERVAL:P3D
CALSCALE:GREGORIAN
BEGIN:VEVENT
DTSTART:20121002T223000Z
DTEND:20121003T003000Z
X-MICROSOFT-CDO-ALLDAYEVENT:FALSE
SUMMARY:Harlingen Medical Center 10th Year Anniversary
DESCRIPTION:Harlingen Medical Center is proudly celebrating their 10th Year Anniversary. We thank our employees\, physicians\, patients\, and community for making Harlingen Medical Center an award winning hospital.\nCome join us as we celebrate our milestone.  Hors d'oeuvres & refreshments will be served.  Call Letty Kretz @ 956-365-1000 for more details.
X-ALT-DESC;FMTTYPE=text/html:Harlingen Medical Center is proudly celebrating their 10th Year Anniversary. We thank our employees\, physicians\, patients\, and community for making Harlingen Medical Center an award winning hospital.\nCome join us as we celebrate our milestone.  Hors d'oeuvres & refreshments will be served.  Call Letty Kretz @ 956-365-1000 for more details. \n\n\n
LOCATION:
UID:e.1828.3985
SEQUENCE:3
DTSTAMP:20260420T084628Z
URL:https://business.harlingen.com/events/details/harlingen-medical-center-10th-year-anniversary-10-02-2012-3985
END:VEVENT

END:VCALENDAR
