BEGIN:VCALENDAR
VERSION:2.0
PRODID:-//ChamberMaster//Event Calendar 2.0//EN
METHOD:PUBLISH
X-PUBLISHED-TTL:P3D
REFRESH-INTERVAL:P3D
CALSCALE:GREGORIAN
BEGIN:VEVENT
DTSTART;VALUE=DATE:20121013
DTEND;VALUE=DATE:20121014
TRANSP:TRANSPARENT
X-MICROSOFT-CDO-ALLDAYEVENT:TRUE
SUMMARY:Harlingen Medical Center 2nd Annual Golf Tournament
DESCRIPTION:Harlingen Medical Center hosts its 2nd Annual Golf Tournament to Benefit SPI Walk for Women.\n\nShotgun start:  8:30 a.m. \nTreasure Hills Golf Course \n\nAll tournament proceeds to benefit The SPI Walk for Women.  For more information and sponsorship opportunities please call Letty Kretz\, HMC Director of Marketing at (956) 365-1848 or email at LKretz@primehealthcare.com.
X-ALT-DESC;FMTTYPE=text/html:Harlingen Medical Center hosts its 2nd Annual Golf Tournament to Benefit SPI Walk for Women.\n\nShotgun start:  8:30 a.m. \nTreasure Hills Golf Course \n\nAll tournament proceeds to benefit The SPI Walk for Women.  For more information and sponsorship opportunities please call Letty Kretz\, HMC Director of Marketing at (956) 365-1848 or email at LKretz@primehealthcare.com. \n
LOCATION:
UID:e.1828.3949
SEQUENCE:3
DTSTAMP:20260422T103756Z
URL:https://business.harlingen.com/events/details/harlingen-medical-center-2nd-annual-golf-tournament-10-13-2012-3949
END:VEVENT

END:VCALENDAR
