BEGIN:VCALENDAR
VERSION:2.0
PRODID:-//ChamberMaster//Event Calendar 2.0//EN
METHOD:PUBLISH
X-PUBLISHED-TTL:P3D
REFRESH-INTERVAL:P3D
CALSCALE:GREGORIAN
BEGIN:VEVENT
DTSTART:20101002T140000Z
DTEND:20101002T160000Z
X-MICROSOFT-CDO-ALLDAYEVENT:FALSE
SUMMARY:Harlingen Medical Center 8th Annual Health & Wellness Fair
DESCRIPTION:Free Screenings and Services to include: Diabetes Testing\, Blood Pressure\, Diabetic Foot / Chronic Wounds\, Surgical Weight Loss\, Nutrition Education\, Cardiovascular Health Education "plus many more".  Door prizes\, Refreshments & Hors d'oeuvres! For more information please call 956-365-1000.
X-ALT-DESC;FMTTYPE=text/html:Free Screenings and Services to include: Diabetes Testing\, Blood Pressure\, Diabetic Foot / Chronic Wounds\, Surgical Weight Loss\, Nutrition Education\, Cardiovascular Health Education "plus many more".  Door prizes\, Refreshments & Hors d'oeuvres! For more information please call 956-365-1000.
LOCATION:Main lobby.
UID:e.1828.2773
SEQUENCE:3
DTSTAMP:20260421T204213Z
URL:https://business.harlingen.com/events/details/harlingen-medical-center-8th-annual-health-wellness-fair-10-02-2010-2773
END:VEVENT

END:VCALENDAR
